BEGIN:VCALENDAR
VERSION:2.0
PRODID:-//British Carriagedriving - ECPv6.15.20//NONSGML v1.0//EN
CALSCALE:GREGORIAN
METHOD:PUBLISH
X-ORIGINAL-URL:https://britishcarriagedriving.co.uk
X-WR-CALDESC:Events for British Carriagedriving
REFRESH-INTERVAL;VALUE=DURATION:PT1H
X-Robots-Tag:noindex
X-PUBLISHED-TTL:PT1H
BEGIN:VTIMEZONE
TZID:UTC
BEGIN:STANDARD
TZOFFSETFROM:+0000
TZOFFSETTO:+0000
TZNAME:UTC
DTSTART:20250101T000000
END:STANDARD
END:VTIMEZONE
BEGIN:VEVENT
DTSTART;VALUE=DATE:20260626
DTEND;VALUE=DATE:20260629
DTSTAMP:20260421T185455
CREATED:20260303T171500Z
LAST-MODIFIED:20260328T225100Z
UID:1024-1782432000-1782691199@britishcarriagedriving.co.uk
SUMMARY:Young Driver's Championships
DESCRIPTION:
URL:https://britishcarriagedriving.co.uk/event/young-drivers-championships/
LOCATION:Sandringham Estate\, Kings Lynn Norfolk\, PE35 6EN\, United Kingdom
CATEGORIES:Championship,National
ORGANIZER;CN="Sandringham":MAILTO:robin@sandringhamdrivingtrials.co.uk
END:VEVENT
BEGIN:VEVENT
DTSTART;VALUE=DATE:20260627
DTEND;VALUE=DATE:20260629
DTSTAMP:20260421T185455
CREATED:20260303T171514Z
LAST-MODIFIED:20260303T171514Z
UID:1025-1782518400-1782691199@britishcarriagedriving.co.uk
SUMMARY:Windsor @ Sandringham
DESCRIPTION:
URL:https://britishcarriagedriving.co.uk/event/windsor-sandringham/
LOCATION:Sandringham Estate\, Kings Lynn Norfolk\, PE35 6EN\, United Kingdom
CATEGORIES:Club,Gateway,VSE
ORGANIZER;CN="Sandringham":MAILTO:robin@sandringhamdrivingtrials.co.uk
END:VEVENT
BEGIN:VEVENT
DTSTART;VALUE=DATE:20260628
DTEND;VALUE=DATE:20260629
DTSTAMP:20260421T185455
CREATED:20260303T171514Z
LAST-MODIFIED:20260303T171514Z
UID:1026-1782604800-1782691199@britishcarriagedriving.co.uk
SUMMARY:Winters Equestrian - ODE
DESCRIPTION:
URL:https://britishcarriagedriving.co.uk/event/winters-equestrian-ode/
LOCATION:Winters Equestrian\, Market Rasen Lincolnshire\, LN7 6JD\, United Kingdom
CATEGORIES:Club,VSE
ORGANIZER;CN="Poacher Club":MAILTO:poacherhc@btinternet.com
END:VEVENT
BEGIN:VEVENT
DTSTART;VALUE=DATE:20260704
DTEND;VALUE=DATE:20260706
DTSTAMP:20260421T185455
CREATED:20260303T171514Z
LAST-MODIFIED:20260303T171514Z
UID:1028-1783123200-1783295999@britishcarriagedriving.co.uk
SUMMARY:Townfoot
DESCRIPTION:
URL:https://britishcarriagedriving.co.uk/event/townfoot/
LOCATION:TownFoot\, Dolphinton South Lanarkshire\, ML12 6LL\, United Kingdom
CATEGORIES:Club,Gateway,SE,VSE
ORGANIZER;CN="SCDA Club":MAILTO:secretary@scda.co.uk
END:VEVENT
BEGIN:VEVENT
DTSTART;VALUE=DATE:20260704
DTEND;VALUE=DATE:20260706
DTSTAMP:20260421T185455
CREATED:20260303T171514Z
LAST-MODIFIED:20260303T171514Z
UID:1027-1783123200-1783295999@britishcarriagedriving.co.uk
SUMMARY:Ashfields - EACDG
DESCRIPTION:
URL:https://britishcarriagedriving.co.uk/event/ashfields-eacdg-2/
LOCATION:Ashfields Carriage & Polo Club\, Great Canfield\, Dunmow Essex\, CM6 1JU\, United Kingdom
CATEGORIES:Club,Gateway,VSE
ORGANIZER;CN="EACDG":MAILTO:secretary.eacdg@gmail.com
END:VEVENT
BEGIN:VEVENT
DTSTART;VALUE=DATE:20260704
DTEND;VALUE=DATE:20260706
DTSTAMP:20260421T185455
CREATED:20260307T080652Z
LAST-MODIFIED:20260317T131303Z
UID:1227-1783123200-1783295999@britishcarriagedriving.co.uk
SUMMARY:Shanes Castle
DESCRIPTION:
URL:https://britishcarriagedriving.co.uk/event/shanes-castle/
LOCATION:Shanes Castle\, Ranaldstown Road\, Antrim\,\, BT41 4NE\, United Kingdom
CATEGORIES:Gateway,National,VSE
END:VEVENT
BEGIN:VEVENT
DTSTART;VALUE=DATE:20260704
DTEND;VALUE=DATE:20260706
DTSTAMP:20260421T185455
CREATED:20260328T225435Z
LAST-MODIFIED:20260328T225435Z
UID:1558-1783123200-1783295999@britishcarriagedriving.co.uk
SUMMARY:Pydew Farm
DESCRIPTION:Two-day event on fairly flat farmland in beautiful setting between sea and mountains\, all classes available. \nSaturday evening meal
URL:https://britishcarriagedriving.co.uk/event/pydew-farm-2/
LOCATION:Pydew Farm\, Prestatyn\, LL19 8BE\, United Kingdom
CATEGORIES:Club,Gateway,SE,SE.VSE,VSE
ORGANIZER;CN="CHDTL":MAILTO:chdtlentries@btconnect.com
END:VEVENT
BEGIN:VEVENT
DTSTART;VALUE=DATE:20260705
DTEND;VALUE=DATE:20260706
DTSTAMP:20260421T185455
CREATED:20260403T221444Z
LAST-MODIFIED:20260407T164818Z
UID:1679-1783209600-1783295999@britishcarriagedriving.co.uk
SUMMARY:Southern Carriage Driving Club - Training with Kathryn Howard
DESCRIPTION:Southern Carriage Driving Club \nSunday 5th July\nLittle Park Equestrian\, Breach Lane\, Royal Wootton Bassett\, Wiltshire SN4 7QR
URL:https://britishcarriagedriving.co.uk/event/training-with-kathryn-howard-2/
LOCATION:Little Park Equestrian\, Little Park Equestrian\, Breach Lane\, Royal Wootton Bassett\, Wiltshire SN4 7QR\, United Kingdom
CATEGORIES:Club,Training
END:VEVENT
BEGIN:VEVENT
DTSTART;VALUE=DATE:20260711
DTEND;VALUE=DATE:20260713
DTSTAMP:20260421T185455
CREATED:20260303T171529Z
LAST-MODIFIED:20260303T171529Z
UID:1030-1783728000-1783900799@britishcarriagedriving.co.uk
SUMMARY:Millrigg
DESCRIPTION:
URL:https://britishcarriagedriving.co.uk/event/millrigg/
LOCATION:Millrigg Farm\, DG11 2PB\, United Kingdom
CATEGORIES:Club,VSE
ORGANIZER;CN="DGHDC":MAILTO:dghorsedrivingclub@gmail.com
END:VEVENT
BEGIN:VEVENT
DTSTART;VALUE=DATE:20260712
DTEND;VALUE=DATE:20260713
DTSTAMP:20260421T185455
CREATED:20260303T171529Z
LAST-MODIFIED:20260328T225625Z
UID:1031-1783814400-1783900799@britishcarriagedriving.co.uk
SUMMARY:Poplar Farm - ODE
DESCRIPTION:
URL:https://britishcarriagedriving.co.uk/event/midlands-cdc-ode-3/
LOCATION:Anslow\, Burton-on-Trent\, DE13 9QL\, United Kingdom
CATEGORIES:Club,SE,VSE
ORGANIZER;CN="Midlands CDC":MAILTO:entriesmc@gmail.com
END:VEVENT
BEGIN:VEVENT
DTSTART;VALUE=DATE:20260712
DTEND;VALUE=DATE:20260713
DTSTAMP:20260421T185455
CREATED:20260307T080652Z
LAST-MODIFIED:20260307T080652Z
UID:1228-1783814400-1783900799@britishcarriagedriving.co.uk
SUMMARY:Manx - ODE
DESCRIPTION:
URL:https://britishcarriagedriving.co.uk/event/manx-ode-3/
CATEGORIES:Club
END:VEVENT
BEGIN:VEVENT
DTSTART;VALUE=DATE:20260718
DTEND;VALUE=DATE:20260719
DTSTAMP:20260421T185455
CREATED:20260307T080653Z
LAST-MODIFIED:20260328T225708Z
UID:1229-1784332800-1784419199@britishcarriagedriving.co.uk
SUMMARY:Lamb's Farm - ODE
DESCRIPTION:
URL:https://britishcarriagedriving.co.uk/event/weald-harness-club-ode/
LOCATION:Old Hay\, Old Hay\, Pearsons Green Road\, Brenchley\, Kent\, TN12 7DG\, United Kingdom
CATEGORIES:Club,Gateway
ORGANIZER;CN="Weald Harness Club":MAILTO:alison@chequertreefishery.com
END:VEVENT
BEGIN:VEVENT
DTSTART;VALUE=DATE:20260718
DTEND;VALUE=DATE:20260720
DTSTAMP:20260421T185455
CREATED:20260303T171530Z
LAST-MODIFIED:20260328T225747Z
UID:1033-1784332800-1784505599@britishcarriagedriving.co.uk
SUMMARY:Allerton Park
DESCRIPTION:
URL:https://britishcarriagedriving.co.uk/event/allerton-park-2/
LOCATION:Allerton Park\, Allerton Park Knaresborough\, HG5 2SE\, United Kingdom
CATEGORIES:Club,National,VSE
END:VEVENT
BEGIN:VEVENT
DTSTART;VALUE=DATE:20260718
DTEND;VALUE=DATE:20260720
DTSTAMP:20260421T185455
CREATED:20260303T171530Z
LAST-MODIFIED:20260303T171530Z
UID:1034-1784332800-1784505599@britishcarriagedriving.co.uk
SUMMARY:Low Kirkbride
DESCRIPTION:
URL:https://britishcarriagedriving.co.uk/event/low-kirkbride/
LOCATION:Low Kirkbride\, Auldgirth Dumfries\, DG2 0SP\, United Kingdom
CATEGORIES:Club
ORGANIZER;CN="SWSHDC":MAILTO:hugh.gillan@btinternet.com
END:VEVENT
BEGIN:VEVENT
DTSTART;VALUE=DATE:20260719
DTEND;VALUE=DATE:20260720
DTSTAMP:20260421T185455
CREATED:20260403T221619Z
LAST-MODIFIED:20260407T164802Z
UID:1681-1784419200-1784505599@britishcarriagedriving.co.uk
SUMMARY:Southern Carriage Driving Club - Inside Out & Pleasure Drive
DESCRIPTION:Southern Carriage Driving Club \nSunday 19th July 2026\nFrom 9:30am\nDummer Down Farm\, Dummer\, Basingstoke\, Hampshire RG25 2AR \nTake on our fun 3-phase Inside Out Competition where you will tackle: \n• Winter indoor dressage test\n• Super cones course\n• Two obstacles driven twice! \nThen relax and enjoy a lovely pleasure drive around the beautiful tracks of Dummer Down Farm. Whether you’re a novice or an open driver\, come along\, meet other drivers and have a great day out!
URL:https://britishcarriagedriving.co.uk/event/inside-out-pleasure-drive/
LOCATION:Dummer Down Farm\, Dummer Down Farm\, Dummer\, Basingstoke\, Hampshire RG25 2AR\, United Kingdom
CATEGORIES:Club
END:VEVENT
BEGIN:VEVENT
DTSTART;VALUE=DATE:20260725
DTEND;VALUE=DATE:20260726
DTSTAMP:20260421T185455
CREATED:20260307T080707Z
LAST-MODIFIED:20260307T080707Z
UID:1232-1784937600-1785023999@britishcarriagedriving.co.uk
SUMMARY:Course Designer Training Clinic
DESCRIPTION:
URL:https://britishcarriagedriving.co.uk/event/course-designer-training-clinic/
LOCATION:Bennington Carriages\, Moor Ln\, Newark\, NG23 5GA\, United Kingdom
CATEGORIES:BC Training
END:VEVENT
BEGIN:VEVENT
DTSTART;VALUE=DATE:20260725
DTEND;VALUE=DATE:20260727
DTSTAMP:20260421T185455
CREATED:20260303T171544Z
LAST-MODIFIED:20260303T171544Z
UID:1035-1784937600-1785110399@britishcarriagedriving.co.uk
SUMMARY:Plas Newydd
DESCRIPTION:
URL:https://britishcarriagedriving.co.uk/event/plas-newydd/
LOCATION:Plas Newydd\, Pontblyddyn\, CH7 4HY\, United Kingdom
CATEGORIES:Club
ORGANIZER;CN="CHDTL":MAILTO:chdtlentries@btconnect.com
END:VEVENT
BEGIN:VEVENT
DTSTART;VALUE=DATE:20260726
DTEND;VALUE=DATE:20260727
DTSTAMP:20260421T185455
CREATED:20260303T171544Z
LAST-MODIFIED:20260303T171544Z
UID:1036-1785024000-1785110399@britishcarriagedriving.co.uk
SUMMARY:Danethorpe - ODE
DESCRIPTION:
URL:https://britishcarriagedriving.co.uk/event/danethorpe-ode/
LOCATION:Danethorpe Hill Farm\, Collingham Newark\, NG24 2PB\, United Kingdom
CATEGORIES:Club,VSE
ORGANIZER;CN="Poacher Club":MAILTO:poacherhc@btinternet.com
END:VEVENT
BEGIN:VEVENT
DTSTART;VALUE=DATE:20260801
DTEND;VALUE=DATE:20260803
DTSTAMP:20260421T185455
CREATED:20260303T171545Z
LAST-MODIFIED:20260328T225845Z
UID:1037-1785542400-1785715199@britishcarriagedriving.co.uk
SUMMARY:Glebe House
DESCRIPTION:
URL:https://britishcarriagedriving.co.uk/event/glebe-house/
LOCATION:Glebe Farm\, West Grinstead Estate West Sussex\, RH13 8NE\, United Kingdom
CATEGORIES:Club,Gateway,National,SE,VSE
END:VEVENT
BEGIN:VEVENT
DTSTART;VALUE=DATE:20260804
DTEND;VALUE=DATE:20260808
DTSTAMP:20260421T185455
CREATED:20260311T074214Z
LAST-MODIFIED:20260311T075244Z
UID:1278-1785801600-1786147199@britishcarriagedriving.co.uk
SUMMARY:The Cricklands Festival of Carriage Driving
DESCRIPTION:The Cricklands Festival will be a week of all things carriage driving – coaching and training\, clinics on hoof and foot with the aim to help and encourage drivers and navigators of all abilities to achieve their own personal potential. \nThe Festival will open on Tuesday prior to The Certius Championships. \nGB POD Training Group will once again be running a programme of training sessions throughout the week\, covering the three phases of competition in preparation for the weekend.
URL:https://britishcarriagedriving.co.uk/event/the-cricklands-festival-of-carriage-driving/
LOCATION:Cricklands\, David Broome Event Centre\, Mount Ballan\, Crick\, Chepstow\, NP26 5XP\, United Kingdom
CATEGORIES:Training
END:VEVENT
BEGIN:VEVENT
DTSTART;VALUE=DATE:20260808
DTEND;VALUE=DATE:20260810
DTSTAMP:20260421T185455
CREATED:20260303T171545Z
LAST-MODIFIED:20260303T171545Z
UID:1039-1786147200-1786319999@britishcarriagedriving.co.uk
SUMMARY:Fearon Place
DESCRIPTION:
URL:https://britishcarriagedriving.co.uk/event/fearon-place/
LOCATION:Fearon Place\, CA23 3AG\, United Kingdom
CATEGORIES:Club,VSE
ORGANIZER;CN="DGHDC":MAILTO:dghorsedrivingclub@gmail.com
END:VEVENT
BEGIN:VEVENT
DTSTART;VALUE=DATE:20260808
DTEND;VALUE=DATE:20260810
DTSTAMP:20260421T185455
CREATED:20260311T074652Z
LAST-MODIFIED:20260311T075041Z
UID:1280-1786147200-1786319999@britishcarriagedriving.co.uk
SUMMARY:Certius Short Format National Championships
DESCRIPTION:
URL:https://britishcarriagedriving.co.uk/event/certius-short-format-national-championships/
LOCATION:Cricklands\, David Broome Event Centre\, Mount Ballan\, Crick\, Chepstow\, NP26 5XP\, United Kingdom
CATEGORIES:Championship
ORGANIZER;CN="Wessex Driving Club":MAILTO:carriagedriving@certiuschampionships.co.uk
END:VEVENT
BEGIN:VEVENT
DTSTART;VALUE=DATE:20260809
DTEND;VALUE=DATE:20260810
DTSTAMP:20260421T185455
CREATED:20260303T171559Z
LAST-MODIFIED:20260328T230038Z
UID:1040-1786233600-1786319999@britishcarriagedriving.co.uk
SUMMARY:Poplar Farm - ODE
DESCRIPTION:
URL:https://britishcarriagedriving.co.uk/event/midlands-cdc-ode-4/
LOCATION:Anslow\, Burton-on-Trent\, DE13 9QL\, United Kingdom
CATEGORIES:Club,SE,VSE
ORGANIZER;CN="Midlands CDC":MAILTO:entriesmc@gmail.com
END:VEVENT
BEGIN:VEVENT
DTSTART;VALUE=DATE:20260813
DTEND;VALUE=DATE:20260817
DTSTAMP:20260421T185455
CREATED:20260303T171559Z
LAST-MODIFIED:20260328T230423Z
UID:1041-1786579200-1786924799@britishcarriagedriving.co.uk
SUMMARY:FEI European Youth Championships - Osorhei (ROU)
DESCRIPTION:
URL:https://britishcarriagedriving.co.uk/event/european-youth-championships-osorhei-rou/
CATEGORIES:Championship,International
END:VEVENT
BEGIN:VEVENT
DTSTART;VALUE=DATE:20260815
DTEND;VALUE=DATE:20260817
DTSTAMP:20260421T185455
CREATED:20260303T171559Z
LAST-MODIFIED:20260303T171559Z
UID:1042-1786752000-1786924799@britishcarriagedriving.co.uk
SUMMARY:Nether Stenries
DESCRIPTION:
URL:https://britishcarriagedriving.co.uk/event/nether-stenries/
LOCATION:Nether Stenries\, Carrutherstown Dumfries\, DG1 4LQ\, United Kingdom
CATEGORIES:Club
ORGANIZER;CN="SWSHDC":MAILTO:hugh.gillan@btinternet.com
END:VEVENT
BEGIN:VEVENT
DTSTART;VALUE=DATE:20260815
DTEND;VALUE=DATE:20260817
DTSTAMP:20260421T185455
CREATED:20260303T171600Z
LAST-MODIFIED:20260303T171600Z
UID:1043-1786752000-1786924799@britishcarriagedriving.co.uk
SUMMARY:Ripon
DESCRIPTION:
URL:https://britishcarriagedriving.co.uk/event/ripon/
LOCATION:Newby Hall\, Ripon\, HG4 5AJ\, United Kingdom
CATEGORIES:Club,VSE
END:VEVENT
BEGIN:VEVENT
DTSTART;VALUE=DATE:20260820
DTEND;VALUE=DATE:20260824
DTSTAMP:20260421T185455
CREATED:20260303T171600Z
LAST-MODIFIED:20260328T230441Z
UID:1044-1787184000-1787529599@britishcarriagedriving.co.uk
SUMMARY:FEI World Championships - Four-in-Hand - Aachen (GER)
DESCRIPTION:FEI World Championship Four-in-Hand Aachen 2026 – Hét platform voor men- en tuigsport liefhebbers
URL:https://britishcarriagedriving.co.uk/event/world-h4-champs-aachen-ger/
CATEGORIES:Championship,International
END:VEVENT
BEGIN:VEVENT
DTSTART;VALUE=DATE:20260822
DTEND;VALUE=DATE:20260824
DTSTAMP:20260421T185455
CREATED:20260303T171614Z
LAST-MODIFIED:20260303T171614Z
UID:1045-1787356800-1787529599@britishcarriagedriving.co.uk
SUMMARY:Windsor Park
DESCRIPTION:
URL:https://britishcarriagedriving.co.uk/event/windsor-park-4/
LOCATION:Windsor Park\, The Deer Park\, Sheet Street Road (A332) Windsor\, Windsor\, SL4 2JA\, United Kingdom
CATEGORIES:Club,Gateway
ORGANIZER;CN="WPEC":MAILTO:wpecsecretary@outlook.com
END:VEVENT
BEGIN:VEVENT
DTSTART;VALUE=DATE:20260823
DTEND;VALUE=DATE:20260824
DTSTAMP:20260421T185455
CREATED:20260303T171614Z
LAST-MODIFIED:20260303T171614Z
UID:1046-1787443200-1787529599@britishcarriagedriving.co.uk
SUMMARY:Danethorpe - ODE
DESCRIPTION:
URL:https://britishcarriagedriving.co.uk/event/danethorpe-ode-2/
LOCATION:Danethorpe Hill Farm\, Collingham Newark\, NG24 2PB\, United Kingdom
CATEGORIES:Club,VSE
ORGANIZER;CN="Poacher Club":MAILTO:poacherhc@btinternet.com
END:VEVENT
BEGIN:VEVENT
DTSTART;VALUE=DATE:20260823
DTEND;VALUE=DATE:20260824
DTSTAMP:20260421T185455
CREATED:20260307T080653Z
LAST-MODIFIED:20260307T080653Z
UID:1230-1787443200-1787529599@britishcarriagedriving.co.uk
SUMMARY:Mount Pleasant Farm - ODE
DESCRIPTION:
URL:https://britishcarriagedriving.co.uk/event/mount-pleasant-farm-ode/
LOCATION:Mount Pleasant Farm\, Mount Pleasant Farm\, Sheepcote Lane\, Hailsham\,\, BN27 3SY\, United Kingdom
CATEGORIES:Club
ORGANIZER;CN="Oaks Driving Club":MAILTO:info@theoaksdrivinglcub.co.uk
END:VEVENT
END:VCALENDAR