BEGIN:VCALENDAR
VERSION:2.0
PRODID:-//British Carriagedriving - ECPv6.15.20//NONSGML v1.0//EN
CALSCALE:GREGORIAN
METHOD:PUBLISH
X-WR-CALNAME:British Carriagedriving
X-ORIGINAL-URL:https://britishcarriagedriving.co.uk
X-WR-CALDESC:Events for British Carriagedriving
REFRESH-INTERVAL;VALUE=DURATION:PT1H
X-Robots-Tag:noindex
X-PUBLISHED-TTL:PT1H
BEGIN:VTIMEZONE
TZID:UTC
BEGIN:STANDARD
TZOFFSETFROM:+0000
TZOFFSETTO:+0000
TZNAME:UTC
DTSTART:20250101T000000
END:STANDARD
END:VTIMEZONE
BEGIN:VEVENT
DTSTART;VALUE=DATE:20260712
DTEND;VALUE=DATE:20260713
DTSTAMP:20260421T165635
CREATED:20260303T171529Z
LAST-MODIFIED:20260328T225625Z
UID:1031-1783814400-1783900799@britishcarriagedriving.co.uk
SUMMARY:Poplar Farm - ODE
DESCRIPTION:
URL:https://britishcarriagedriving.co.uk/event/midlands-cdc-ode-3/
LOCATION:Anslow\, Burton-on-Trent\, DE13 9QL\, United Kingdom
CATEGORIES:Club,SE,VSE
ORGANIZER;CN="Midlands CDC":MAILTO:entriesmc@gmail.com
END:VEVENT
BEGIN:VEVENT
DTSTART;VALUE=DATE:20260801
DTEND;VALUE=DATE:20260803
DTSTAMP:20260421T165635
CREATED:20260303T171545Z
LAST-MODIFIED:20260328T225845Z
UID:1037-1785542400-1785715199@britishcarriagedriving.co.uk
SUMMARY:Glebe House
DESCRIPTION:
URL:https://britishcarriagedriving.co.uk/event/glebe-house/
LOCATION:Glebe Farm\, West Grinstead Estate West Sussex\, RH13 8NE\, United Kingdom
CATEGORIES:Club,Gateway,National,SE,VSE
END:VEVENT
BEGIN:VEVENT
DTSTART;VALUE=DATE:20260809
DTEND;VALUE=DATE:20260810
DTSTAMP:20260421T165635
CREATED:20260303T171559Z
LAST-MODIFIED:20260328T230038Z
UID:1040-1786233600-1786319999@britishcarriagedriving.co.uk
SUMMARY:Poplar Farm - ODE
DESCRIPTION:
URL:https://britishcarriagedriving.co.uk/event/midlands-cdc-ode-4/
LOCATION:Anslow\, Burton-on-Trent\, DE13 9QL\, United Kingdom
CATEGORIES:Club,SE,VSE
ORGANIZER;CN="Midlands CDC":MAILTO:entriesmc@gmail.com
END:VEVENT
BEGIN:VEVENT
DTSTART;VALUE=DATE:20260829
DTEND;VALUE=DATE:20260831
DTSTAMP:20260421T165635
CREATED:20260303T171614Z
LAST-MODIFIED:20260328T230907Z
UID:1047-1787961600-1788134399@britishcarriagedriving.co.uk
SUMMARY:Brechin
DESCRIPTION:
URL:https://britishcarriagedriving.co.uk/event/brechin/
LOCATION:Brechin Castle Showground\, Haughmuir Brechin\, DD9 6RL\, United Kingdom
CATEGORIES:Club,Gateway,National,SE,VSE
ORGANIZER;CN="SCDA Club":MAILTO:secretary@scda.co.uk
END:VEVENT
BEGIN:VEVENT
DTSTART;VALUE=DATE:20260919
DTEND;VALUE=DATE:20260921
DTSTAMP:20260421T165635
CREATED:20260303T171630Z
LAST-MODIFIED:20260303T171630Z
UID:1052-1789776000-1789948799@britishcarriagedriving.co.uk
SUMMARY:Strathallan
DESCRIPTION:
URL:https://britishcarriagedriving.co.uk/event/strathallan/
CATEGORIES:Club,Gateway,SE,VSE
ORGANIZER;CN="SCDA Club":MAILTO:secretary@scda.co.uk
END:VEVENT
BEGIN:VEVENT
DTSTART;VALUE=DATE:20260919
DTEND;VALUE=DATE:20260921
DTSTAMP:20260421T165635
CREATED:20260303T171631Z
LAST-MODIFIED:20260303T171631Z
UID:1053-1789776000-1789948799@britishcarriagedriving.co.uk
SUMMARY:Windsor Park
DESCRIPTION:
URL:https://britishcarriagedriving.co.uk/event/windsor-park-5/
CATEGORIES:Club,Gateway,SE
ORGANIZER;CN="WPEC":MAILTO:wpecsecretary@outlook.com
END:VEVENT
BEGIN:VEVENT
DTSTART;VALUE=DATE:20260927
DTEND;VALUE=DATE:20260928
DTSTAMP:20260421T165635
CREATED:20260303T171710Z
LAST-MODIFIED:20260328T232148Z
UID:1057-1790467200-1790553599@britishcarriagedriving.co.uk
SUMMARY:Poplar Farm - ODE
DESCRIPTION:
URL:https://britishcarriagedriving.co.uk/event/midlands-cdc-ode-5/
CATEGORIES:Club,SE,VSE
ORGANIZER;CN="Midlands CDC":MAILTO:entriesmc@gmail.com
END:VEVENT
BEGIN:VEVENT
DTSTART;VALUE=DATE:20261003
DTEND;VALUE=DATE:20261005
DTSTAMP:20260421T165635
CREATED:20260303T171711Z
LAST-MODIFIED:20260303T171711Z
UID:1058-1790985600-1791158399@britishcarriagedriving.co.uk
SUMMARY:Windsor Park
DESCRIPTION:
URL:https://britishcarriagedriving.co.uk/event/windsor-park-6/
CATEGORIES:Club,Gateway,SE
ORGANIZER;CN="WPEC":MAILTO:wpecsecretary@outlook.com
END:VEVENT
END:VCALENDAR