BEGIN:VCALENDAR
VERSION:2.0
PRODID:-//British Carriagedriving - ECPv6.15.20//NONSGML v1.0//EN
CALSCALE:GREGORIAN
METHOD:PUBLISH
X-ORIGINAL-URL:https://britishcarriagedriving.co.uk
X-WR-CALDESC:Events for British Carriagedriving
REFRESH-INTERVAL;VALUE=DURATION:PT1H
X-Robots-Tag:noindex
X-PUBLISHED-TTL:PT1H
BEGIN:VTIMEZONE
TZID:UTC
BEGIN:STANDARD
TZOFFSETFROM:+0000
TZOFFSETTO:+0000
TZNAME:UTC
DTSTART:20250101T000000
END:STANDARD
END:VTIMEZONE
BEGIN:VEVENT
DTSTART;VALUE=DATE:20260502
DTEND;VALUE=DATE:20260504
DTSTAMP:20260421T190213
CREATED:20260303T171412Z
LAST-MODIFIED:20260303T171412Z
UID:1003-1777680000-1777852799@britishcarriagedriving.co.uk
SUMMARY:Ashfields - EACDG
DESCRIPTION:
URL:https://britishcarriagedriving.co.uk/event/ashfields-eacdg/
LOCATION:Ashfields Carriage & Polo Club\, Great Canfield\, Dunmow Essex\, CM6 1JU\, United Kingdom
CATEGORIES:Club
ORGANIZER;CN="EACDG":MAILTO:secretary.eacdg@gmail.com
END:VEVENT
BEGIN:VEVENT
DTSTART;VALUE=DATE:20260502
DTEND;VALUE=DATE:20260504
DTSTAMP:20260421T190213
CREATED:20260303T171412Z
LAST-MODIFIED:20260303T171412Z
UID:1004-1777680000-1777852799@britishcarriagedriving.co.uk
SUMMARY:Feedale
DESCRIPTION:
URL:https://britishcarriagedriving.co.uk/event/feedale/
LOCATION:Feedale Farm\, Copt Hewick Ripon\, HG4 5DG\, United Kingdom
CATEGORIES:Club
END:VEVENT
BEGIN:VEVENT
DTSTART;VALUE=DATE:20260502
DTEND;VALUE=DATE:20260504
DTSTAMP:20260421T190213
CREATED:20260303T171415Z
LAST-MODIFIED:20260310T155705Z
UID:1005-1777680000-1777852799@britishcarriagedriving.co.uk
SUMMARY:Bladnoch Park
DESCRIPTION:
URL:https://britishcarriagedriving.co.uk/event/bladnoch-park/
LOCATION:Bladnoch Park\, Wigtown\, DG8 9AB\, United Kingdom
CATEGORIES:Club
ORGANIZER;CN="SWSHDC":MAILTO:hugh.gillan@btinternet.com
END:VEVENT
BEGIN:VEVENT
DTSTART;VALUE=DATE:20260502
DTEND;VALUE=DATE:20260504
DTSTAMP:20260421T190213
CREATED:20260328T223425Z
LAST-MODIFIED:20260328T223425Z
UID:1546-1777680000-1777852799@britishcarriagedriving.co.uk
SUMMARY:Ripon
DESCRIPTION:2 day club event.  \nMarathon across undulating ground and a good start event of the season.  \nSection A usually controlled warmup of 3km and Section B 5km with 6 obstacles.  \nClasses – novice\, intermediate\, open\, pairs\,tandems\, short format with prenovice\, VSE
URL:https://britishcarriagedriving.co.uk/event/ripon-2/
LOCATION:Ripon\, Feedale Farm\, Copt Hewick\, Ripon HG4 5DG\, Ripon\, HG4 5DG\, United Kingdom
CATEGORIES:Club,VSE
END:VEVENT
BEGIN:VEVENT
DTSTART;VALUE=DATE:20260503
DTEND;VALUE=DATE:20260504
DTSTAMP:20260421T190213
CREATED:20260403T220209Z
LAST-MODIFIED:20260407T164914Z
UID:1670-1777766400-1777852799@britishcarriagedriving.co.uk
SUMMARY:Southern Carriage Driving Club - Bluebell Trec & Fun Cones
DESCRIPTION:Southern Carriage Driving Club \nJoin us for the Bluebell TREC to include optimum timed short drive on the Dummer Farm tracks through the beautiful bluebells followed by TREC challenges. \nThere will also be a Fun Cones course to keep it exciting and engaging for everyone. \nA truly lovely way to spend the day having fun with your horse or pony and friends. Don’t miss it\, we would love to see you there!
URL:https://britishcarriagedriving.co.uk/event/bluebell-trec-fun-cones/
LOCATION:Dummer Down Farm\, Dummer Down Farm\, Dummer\, Basingstoke\, Hampshire RG25 2AR\, United Kingdom
CATEGORIES:Club
END:VEVENT
END:VCALENDAR