BEGIN:VCALENDAR
VERSION:2.0
PRODID:-//British Carriagedriving - ECPv6.15.20//NONSGML v1.0//EN
CALSCALE:GREGORIAN
METHOD:PUBLISH
X-ORIGINAL-URL:https://britishcarriagedriving.co.uk
X-WR-CALDESC:Events for British Carriagedriving
REFRESH-INTERVAL;VALUE=DURATION:PT1H
X-Robots-Tag:noindex
X-PUBLISHED-TTL:PT1H
BEGIN:VTIMEZONE
TZID:UTC
BEGIN:STANDARD
TZOFFSETFROM:+0000
TZOFFSETTO:+0000
TZNAME:UTC
DTSTART:20250101T000000
END:STANDARD
END:VTIMEZONE
BEGIN:VEVENT
DTSTART;TZID=UTC:20260422T193000
DTEND;TZID=UTC:20260422T213000
DTSTAMP:20260421T153815
CREATED:20260328T222710Z
LAST-MODIFIED:20260328T222710Z
UID:1540-1776886200-1776893400@britishcarriagedriving.co.uk
SUMMARY:Stewards Marathon Zoom Training
DESCRIPTION:An evening with Marisa for stewards preparing for the season. \nA reminder of the rules and processes and a chance to ask questions! \nPlease book on myClubhouse and a link will be sent out nearer the time \nEvent: Stewards Marathon Zoom Training @ 7.30pm
URL:https://britishcarriagedriving.co.uk/event/stewards-marathon-zoom-training/
LOCATION:Online
CATEGORIES:BC Training
END:VEVENT
BEGIN:VEVENT
DTSTART;VALUE=DATE:20260725
DTEND;VALUE=DATE:20260726
DTSTAMP:20260421T153815
CREATED:20260307T080707Z
LAST-MODIFIED:20260307T080707Z
UID:1232-1784937600-1785023999@britishcarriagedriving.co.uk
SUMMARY:Course Designer Training Clinic
DESCRIPTION:
URL:https://britishcarriagedriving.co.uk/event/course-designer-training-clinic/
LOCATION:Bennington Carriages\, Moor Ln\, Newark\, NG23 5GA\, United Kingdom
CATEGORIES:BC Training
END:VEVENT
END:VCALENDAR